BEGIN:VCALENDAR
VERSION:2.0
PRODID:-//Comunità Italiana Singapore - ECPv6.15.17//NONSGML v1.0//EN
CALSCALE:GREGORIAN
METHOD:PUBLISH
X-WR-CALNAME:Comunità Italiana Singapore
X-ORIGINAL-URL:https://comunitaitaliana.sg
X-WR-CALDESC:Eventi per Comunità Italiana Singapore
REFRESH-INTERVAL;VALUE=DURATION:PT1H
X-Robots-Tag:noindex
X-PUBLISHED-TTL:PT1H
BEGIN:VTIMEZONE
TZID:Asia/Singapore
BEGIN:STANDARD
TZOFFSETFROM:+0800
TZOFFSETTO:+0800
TZNAME:+08
DTSTART:20230101T000000
END:STANDARD
END:VTIMEZONE
BEGIN:VTIMEZONE
TZID:Asia/Shanghai
BEGIN:STANDARD
TZOFFSETFROM:+0800
TZOFFSETTO:+0800
TZNAME:CST
DTSTART:20220101T000000
END:STANDARD
END:VTIMEZONE
BEGIN:VEVENT
DTSTART;VALUE=DATE:20241024
DTEND;VALUE=DATE:20241029
DTSTAMP:20260422T095635
CREATED:20241001T124928Z
LAST-MODIFIED:20241003T044841Z
UID:2346-1729728000-1730159999@comunitaitaliana.sg
SUMMARY:Tour Mondiale 'Amerigo Vespucci' - Singapore
DESCRIPTION:Eventi in Programma: \n24 OTTOBRE 2024\nVisita a bordo\nVivi l’irripetibile esperienza di vedere da vicino la nave più bella del mondo. Sali a bordo e scatta le tue foto ricordo. La visita del Vespucci non è guidata\, ma i membri dell’equipaggio saranno felici di rispondere a tutte le tue domande lungo il percorso.\nLa prenotazione è nominale\, verrà richiesto un documento d’identità per accedere alla nave.\nNAVE VESPUCCI 02:30 pm – 06:00 pm \nNave Vespucci incontra…il mito nella performance artistica\nConferenza dedicata al tema della Magna Grecia e alla cultura del mito\, arricchita da una performance artistica. Evento realizzato in collaborazione con il Dipartimento dei Beni Culturali della Regione Sicilia.\nCONFERENCE HALL 02:45 pm – 03:45 pm \nNave Vespucci incontra…le scienze naturalistiche\nSeminario sulle “Spedizioni naturalistiche nel Sud-Est asiatico”\, svolte via mare\, in passato e nel presente\, tra l’Italia e Singapore\, da accademici\, scienziati e storici.\nCONFERENCE HALL 04:30 pm – 05:30 pm \nConferenza sulla Space Economy\nCONFERENCE HALL 06:15 pm – 07:15 pm \nNave Vespucci presenta… il cinema d’autore italiano “Comandante” di E. De Angelis (2023)\nProiezione del film in lingua italiana con sottotitoli in inglese\, a cura della Biennale di Venezia e per gentile concessione di Indigo Film Produzioni.\nTrama: La storia di Salvatore Todaro\, comandante di sommergibili della Regia Marina che durante la Seconda Guerra Mondiale contravvenne agli ordini del suo comando per portare in salvo i 26 uomini che avevano provato ad affondarlo\, accettando il rischio di navigare in emersione fino a destinazione: perché la legge del mare per lui conta di più della legge della guerra.\nCONFERENCE HALL 08:30 pm – 10:30 pm \n25 OTTOBRE 2024\nNave Vespucci incontra…la scienza e la fisica\nSeminario sugli studi condotti sulle radiazioni cosmiche e illustrazione risultati dei dati raccolti dalle apparecchiature installate su Nave Vespucci\nCONFERENCE HALL 10:00 am – 11:00 am \nNave Vespucci presenta… il cinema d’autore italiano “Posso entrare? An ode to Naples” di T. Styler (2023)\nProiezione del film in lingua italiana con sottotitoli in inglese\, a cura della Biennale di Venezia.\nTrama: Il documentario è un omaggio a Napoli\, frutto di quasi due anni trascorsi tra i suoi vicoli e quartieri. Attraverso immagini che raccontano la cultura del cibo\, l’arte\, i contrasti e la passione dei suoi abitanti\, offre un ritratto sincero della città\, catturandone la bellezza e le ombre. Uno sguardo innamorato che rivela l’essenza complessa e affascinante di Napoli.\nCONFERENCE HALL 08:30 pm – 10:30 pm \n26 OTTOBRE 2024\nNave Vespucci incontra… l’arte della ceramica siciliana\nWorkshop sulla ceramica con creazione di un’opera dal vivo\, accompagnato da una presentazione di prodotti artigianali e specialità enogastronomiche siciliane\, in collaborazione con il Dipartimento Attività Produttive della Regione Siciliana.\nCONFERENCE HALL 09:30 am – 11:30 am \nVisita a bordo\nVivi l’irripetibile esperienza di vedere da vicino la nave più bella del mondo. Sali a bordo e scatta le tue foto ricordo. La visita del Vespucci non è guidata\, ma i membri dell’equipaggio saranno felici di rispondere a tutte le tue domande lungo il percorso.\nLa prenotazione è nominale\, verrà richiesto un documento d’identità per accedere alla nave.\nNAVE VESPUCCI 10:00 am – 12:00 pm \nVisita a bordo\nVivi l’irripetibile esperienza di vedere da vicino la nave più bella del mondo. Sali a bordo e scatta le tue foto ricordo. La visita del Vespucci non è guidata\, ma i membri dell’equipaggio saranno felici di rispondere a tutte le tue domande lungo il percorso.\nLa prenotazione è nominale\, verrà richiesto un documento d’identità per accedere alla nave.\nNAVE VESPUCCI 02:30 pm – 07:30 pm \nNave Vespucci presenta… il cinema d’autore italiano “Red carpet\, corti singaporeani e italiani”\nProiezione del film in lingua italiana con sottotitoli in inglese\, a cura della Biennale di Venezia\nCONFERENCE HALL 05:00 pm – 06:00 pm \nNave Vespucci presenta…il cinema d’autore italiano “La parte del leone”\, di B. Etchegaray (2023)\nProiezione del film in lingua italiana con sottotitoli in inglese\, a cura della Biennale di Venezia.\nTrama: Ottanta edizioni della Mostra del Cinema di Venezia raccontati con interviste storiche e inedite\, un ricco repertorio di immagini di archivio. Il documentario ripercorre le tappe cruciali e i momenti significativi della rassegna cinematografica più antica del mondo\, che fin dalla sua nascita nel 1932\, non ha mai smesso di essere lo specchio del suo tempo e parte integrante della storia culturale italiana.\nCONFERENCE HALL 06:00 pm – 08:00 pm \nNave Vespucci presenta…Matilde G\nConcerto di musica pop italiana con esibizione di un corpo di ballo d’accompagnamento\nCONFERENCE HALL 08:45 pm – 10:00 pm \n27 OTTOBRE 2024\nNave Vespucci presenta…“Mano d’Opera”\, la docuserie che rivela il dietro le quinte dell’opera lirica italiana\nProiezione della docuserie\, composta da 5 episodi da 18 minuti ciascuno\, che racconta al grande pubblico il dietro le quinte di alcuni dei più grandi teatri d’opera italiani attraverso le parole dei professionisti che lavorano lontano dagli occhi degli spettatori. Prodotta dal Ministero degli Affari Esteri e della Cooperazione Internazionale\, realizzata dalla società fiorentina Berta Film.\nCONFERENCE HALL 10:00 am – 11:30 am \nNave Vespucci presenta… Lirica Arts – Puccini\, a life in 7 women\nConcerto lirico con una raccolta di brani che narra la tragica fine delle 7 protagoniste femminili nelle opere di Puccini.\nSi richiede dress code semi-formal.\nCONFERENCE HALL 11:30 am – 01:00 pm \nNave Vespucci presenta… il cinema d’autore italiano “Jago Into the White”\, di L. Pingitore (2024)\nProiezione del film in lingua italiana con sottotitoli in inglese\, a cura di Nexo Digital e per gentile concessione di Jcj Produzioni.\nTrama: Documentario che racconta due anni della vita di Jago\, un artista che si trasferisce da Napoli a New York per lavorare da solo su una versione personale della Pietà di Michelangelo. Jago\, anche una pop star con oltre 1 milione di follower\, viaggiatore e imprenditore\, sfida le convenzioni del mercato artistico per ispirare i giovani con un nuovo approccio all’arte.\nCONFERENCE HALL 01:45 pm – 03:15 pm \nTalk show “L’arte come ponte: Jago si racconta”\nUn dialogo aperto con l’artista su come l’arte diventi uno strumento di connessione culturale e sociale\, rivelando il dietro le quinte del suo processo creativo e il rapporto diretto con il pubblico attraverso le nuove tecnologie.\nJAGO è un artista italiano contemporaneo specializzato nella scultura. Nato a Frosinone nel 1987\, combina tecniche tradizionali con temi moderni\, utilizzando il marmo e condividendo il processo creativo attraverso video e social media. È stato selezionato da Vittorio Sgarbi per la Biennale di Venezia nel 2011 e ha acquisito notorietà con opere come Habemus Hominem\, una reinterpretazione del busto di Papa Benedetto XVI. Ha esposto e insegnato a livello internazionale\, tra Italia\, Cina e Stati Uniti.\nCONFERENCE HALL 03:15 pm – 04:15 pm \nNave Vespucci presenta… “Viva Italia! Songs & Dances from Baroque Italy”\nIl concerto prevede l’esibizione dell’ensemble Red Dot Baroque di Singapore\, il primo gruppo professionale di musica barocca nato dal prestigioso Conservatorio Yong Siew Toh. L’evento offre un viaggio attraverso le radici della musica barocca italiana del XVII secolo\, celebrando le opere di compositori iconici come Claudio Monteverdi\, Marco Uccellini e Girolamo Frescobaldi. Grazie alla maestria del Red Dot Baroque\, il pubblico potrà riscoprire melodie senza tempo e danze vivaci\, capaci di evocare l’eleganza e la complessità culturale dell’Italia del periodo barocco.\nCONFERENCE HALL 07:00 pm – 08:00 pm \nNave Vespucci presenta… il cinema d’autore italiano “Felicità”\, di M. Ramazzotti (2023)\nProiezione del film in lingua italiana con sottotitoli in inglese\, a cura della Biennale di Venezia.\nTrama: Quella di Desirè è una famiglia storta\, in cui il rapporto genitori-figli si mescola\, un mostro a due teste che divora ogni speranza di libertà dei figli\, mentre i genitori sono l’incarnazione di un affannato inseguimento del benessere sempre al di sopra delle proprie possibilità.\nCONFERENCE HALL 08:30 pm – 10:30 pm \n28 OTTOBRE 2024\nVisita a bordo\nVivi l’irripetibile esperienza di vedere da vicino la nave più bella del mondo. Sali a bordo e scatta le tue foto ricordo. La visita del Vespucci non è guidata\, ma i membri dell’equipaggio saranno felici di rispondere a tutte le tue domande lungo il percorso.\nLa prenotazione è nominale\, verrà richiesto un documento d’identità per accedere alla nave.\nNAVE VESPUCCI 10:00 am – 12:00 pm \nCerimonia di Chiusura del Villaggio Italia\, disormeggio Nave e Farewell Parade\nCEREMONY AREA 02:30 pm – 04:00 pm \nOrari di Apertura \n(Ingresso Gratuito)\nL’accesso al Villaggio Italia è libero e gratuito.\nL’accesso agli eventi del Villaggio Italia è gratuito\, previa prenotazione sul sito. \nLa partecipazione agli eventi senza prenotazione sul sito non è assicurata e sarà disponibile fino a esaurimento posti.\nL’accesso sulla Nave Amerigo Vespucci è gratuito\, previa prenotazione nominale sul sito.  \nÈ necessario portare con sè un documento di identità per l’autorizzazione. \n24 OTTOBRE 01:00 PM – 10:30 PM\n25 OTTOBRE 09:00 AM – 10:30 PM\n26 OTTOBRE 09:00 AM – 10:30 PM\n27 OTTOBRE 09:00 AM – 10:30 PM\n28 OTTOBRE 09:00 AM – 04:00 PM
URL:https://comunitaitaliana.sg/event/tour-mondiale-amerigo-vespucci/
LOCATION:Marina Bay Cruise Center\, 61 Marina Coastal Dr\, Singapore\, 018947\, Singapore
CATEGORIES:Concerto,Danza,Film,Social,Workshop
ATTACH;FMTTYPE=image/jpeg:https://comunitaitaliana.sg/wp-content/uploads/2024/10/icon_vespicci-e1727786863388.jpg
END:VEVENT
BEGIN:VEVENT
DTSTART;TZID=Asia/Singapore:20240422T140000
DTEND;TZID=Asia/Singapore:20240422T163000
DTSTAMP:20260422T095635
CREATED:20240417T082626Z
LAST-MODIFIED:20240417T082626Z
UID:2116-1713794400-1713803400@comunitaitaliana.sg
SUMMARY:Weaving Sustainability Into the Future
DESCRIPTION:Intraprendu un viaggio di trasformazione verso soluzioni innovative e sostenibili Made in Italy nel settore tessile e della moda.  \nScopri l’approccio Life Cycle Thinking\, essenziale per gli eco-designer\, e approfondisci le politiche europee che danno forma alla produzione e al consumo sostenibili a livello globale.  \nEsplora le strategie sostenibili di diverse aziende italiane\, tra cui PMI\, startup e giganti del settore\, scoprendo allo stesso tempo soluzioni digitali all’avanguardia per supportare la produzione circolare. \nSessione di apprendimento dinamica su sostenibilità e circolarità che consente al pubblico di partecipare attivamente al discorso e fornire feedback in tempo reale attraverso strumenti interattivi. Inoltre è previsto uno scambio da parte di un’azienda italiana\, dando la possibilità di condividere alcune conoscenze attuali del mondo tessile. \nIl programma comprenderà: \nDiscorso interattivo di 1 ora e 30 minuti di Claudia Morea \n20-30 minuti Storie vere da un’azienda italiana
URL:https://comunitaitaliana.sg/event/weaving-sustainability-into-the-future/
LOCATION:The Cocoon Space\, 250 Orchard Road\, Singapore\, 238905\, Singapore
CATEGORIES:Workshop
ATTACH;FMTTYPE=image/jpeg:https://comunitaitaliana.sg/wp-content/uploads/2024/04/438793645_18230133442260605_8878860363771307749_n.jpg
ORGANIZER;CN="Ambasciata d'Italia":MAILTO:singapore.culturale@esteri.it
END:VEVENT
BEGIN:VEVENT
DTSTART;VALUE=DATE:20240120
DTEND;VALUE=DATE:20240127
DTSTAMP:20260422T095635
CREATED:20240108T024429Z
LAST-MODIFIED:20240108T072601Z
UID:1876-1705708800-1706313599@comunitaitaliana.sg
SUMMARY:ITALIAN FOOD & WINE WEEK
DESCRIPTION:Settimana Italiana del Cibo e del Vino a Singapore 2024: Un Viaggio nel Gusto \nLa Settimana Italiana del Cibo e del Vino di Singapore è un evento che celebra l’heritage culinario italiano. In programma dal 20 al 26 gennaio 2024 al Suntec Convention & Exhibition Center\, promette un viaggio indimenticabile attraverso i sapori e gli aromi d’Italia. \nL’Evento\nQuesta settimana non è solo un evento\, ma un’esperienza che unisce il meglio della cucina e del vino italiani. È un’occasione unica per appassionati\, professionisti e amanti della cultura italiana di partecipare a diverse attività. \nPunti Salienti\nFiera B2B: Una piattaforma per networking e presentazione di prodotti.\nMasterclass: Imparare i segreti della cucina italiana da chef rinomati.\nDiscussioni: Esperti che discutono le ultime tendenze nel settore enogastronomico.\nShopping: Acquistare prodotti autentici italiani.\nFeste e Cene: Vivere la vera cultura del dining italiano. \nPerché Partecipare?\nScoprire Nuovi Sapori: Ampia gamma di vini e piatti italiani.\nApprendere dai Migliori: Intuizioni da leader del settore e chef esperti.\nOpportunità di Networking: Connessioni con importanti figure del mondo culinario.\nImmersione Culturale: Abbracciare lo stile di vita italiano attraverso cibo e vino. \nA Chi Si Rivolge?\nIdeale per: \nAppassionati di cibo e vino che desiderano approfondire la loro conoscenza.\nProfessionisti alla ricerca di nuovi contatti e prodotti.\nChiunque sia interessato a sperimentare la ricchezza della cultura italiana. \nLa Settimana Italiana del Cibo e del Vino è più di un evento; è una celebrazione dell’eccellenza culinaria italiana. È un luogo dove gusto\, tradizione e innovazione si incontrano. Vi invitiamo a far parte di questo straordinario viaggio e immergervi nel mondo del cibo e del vino italiano.
URL:https://comunitaitaliana.sg/event/italian-food-wine-week/
LOCATION:Suntec Convention & Exhibition Centre\, 1 Raffles Boulevard\, Singapore\, 039593\, Singapore
CATEGORIES:Mostre e Fiere,Workshop
ATTACH;FMTTYPE=image/jpeg:https://comunitaitaliana.sg/wp-content/uploads/2024/01/7e6594a4-028d-4ddd-8c87-e23d12488876.jpeg
ORGANIZER;CN="Magaras":MAILTO:info@magaras.com
END:VEVENT
BEGIN:VEVENT
DTSTART;TZID=Asia/Shanghai:20231129T180000
DTEND;TZID=Asia/Shanghai:20231129T190000
DTSTAMP:20260422T095635
CREATED:20231102T031921Z
LAST-MODIFIED:20231102T031921Z
UID:1741-1701280800-1701284400@comunitaitaliana.sg
SUMMARY:Nutrition and Brain Health
DESCRIPTION:Nell’ambito della Settimana della Cucina Italiana nel Mondo\, con il patrocinio dell’Ambasciata d’Italia a Singapore\, si terra’ il workshop “Nutrition and Brain Health” \nOspiti:\nDante Brandi – Ambasciatore d’Italia a Singapore\nGiorgio Maria Rosica – Delegato per l’Accademia della Cucina\, SG\nPaolo Petroni – Presidente dell’Accademia della Cucina\, IT \nRelatori:\nMood and Food\nProf Michael Meaney\nSingapore Institute for Clinical Sciences\, A*Star \nNutrition and Cognitive Ageing: Hypes and Hopes\nProf Jeroen Schmitt\nSingapore Institute for Clinical Sciences\, A*Star \nAre you what your mum ate? Intergenerational Impacts of Diet\nProf Zhang Cuilin\nYong Loo Lin School of Medicine\, NUS \nModeratore:\nProf Johan Eriksson\nSingapore Institute for Clinical Sciences\, A*Star\nDirector\, Human Potential TRP\, NUS
URL:https://comunitaitaliana.sg/event/nutrition-and-brain-health/
LOCATION:National University of Singapore\, 14 Medical Drive\, Singapore\, 117599\, Singapore
CATEGORIES:Workshop
ATTACH;FMTTYPE=image/jpeg:https://comunitaitaliana.sg/wp-content/uploads/2023/11/fca6dc18-50f4-48bf-ac54-153ae67c8bf3.jpeg
END:VEVENT
BEGIN:VEVENT
DTSTART;VALUE=DATE:20231106
DTEND;VALUE=DATE:20231202
DTSTAMP:20260422T095635
CREATED:20231108T031006Z
LAST-MODIFIED:20231108T031006Z
UID:1751-1699228800-1701475199@comunitaitaliana.sg
SUMMARY:Week of the Italian Cuisine in the World
DESCRIPTION:L’ottava edizione della Settimana della Cucina Italiana nel Mondo incanterà Singapore dal 6 novembre al 1 dicembre 2023. Il Ministero degli Affari Esteri e della Cooperazione Internazionale organizza questa iniziativa incentrata sul tema “A tavola con gli italiani Cucina: assaporare il benessere.” La sua missione principale è celebrare a livello isolano l’eccezionale qualità delle tradizioni culinarie italiane intrise di elementi innovativi. \nQuesta ricca esperienza culinaria sarà caratterizzata da numerose attività\, tra cui la promozione dei ristoranti italiani\, dei prodotti\, seminari informativi sull’agricoltura urbana\, il legame tra cibo e salute e la dieta mediterranea\, workshop ed eventi B2B. Non mancheranno inoltre iniziative conviviali dedicate alle eccellenze italiane\, come degustazioni\, abbinamenti ed eleganti cene di gala. \nL’Ambasciata d’Italia a Singapore coordina questa iniziativa in collaborazione con l’Italian Trade Agency (ITA)\, la Camera di Commercio Italiana a Singapore (ICCS)\, l’Accademia Italiana della Cucina (AIC)\, il Centro Culturale Italiano Singapore (APICS)\, l’ Italian Women Association (IWG)\, l’Associazione Italiana di Singapore\, la Comunità Cattolica Italiana\, aziende\, importatori/distributori e altri preziosi contributori e partner locali. \nIl 14 novembre 2023\, al Singapore Institute of Technology\, verrà presentato un progetto congiunto tra Singapore e Milano chiamato “BIZE_UrFarm”. Questo progetto fa parte di un programma bilaterale in Scienza e Tecnologia ed è finalizzato allo sviluppo di soluzioni sostenibili per la produzione alimentare urbana. Ciò è in linea con il piano 30×30 di Singapore e con l’eredità dell’EXPO 2015 focalizzato sul cibo a Milano.
URL:https://comunitaitaliana.sg/event/week-of-the-italian-cuisine-in-the-world/
CATEGORIES:Cucina,Workshop
ATTACH;FMTTYPE=image/jpeg:https://comunitaitaliana.sg/wp-content/uploads/2023/11/logoSettimana.jpg
ORGANIZER;CN="Ambasciata d'Italia":MAILTO:singapore.culturale@esteri.it
END:VEVENT
END:VCALENDAR