BEGIN:VCALENDAR
VERSION:2.0
PRODID:-//Comunità Italiana Singapore - ECPv6.15.17//NONSGML v1.0//EN
CALSCALE:GREGORIAN
METHOD:PUBLISH
X-ORIGINAL-URL:https://comunitaitaliana.sg
X-WR-CALDESC:Eventi per Comunità Italiana Singapore
REFRESH-INTERVAL;VALUE=DURATION:PT1H
X-Robots-Tag:noindex
X-PUBLISHED-TTL:PT1H
BEGIN:VTIMEZONE
TZID:Asia/Singapore
BEGIN:STANDARD
TZOFFSETFROM:+0800
TZOFFSETTO:+0800
TZNAME:+08
DTSTART:20230101T000000
END:STANDARD
END:VTIMEZONE
BEGIN:VTIMEZONE
TZID:Asia/Shanghai
BEGIN:STANDARD
TZOFFSETFROM:+0800
TZOFFSETTO:+0800
TZNAME:CST
DTSTART:20220101T000000
END:STANDARD
END:VTIMEZONE
BEGIN:VEVENT
DTSTART;TZID=Asia/Singapore:20240926T080000
DTEND;TZID=Asia/Singapore:20241019T170000
DTSTAMP:20260422T034047
CREATED:20240925T075423Z
LAST-MODIFIED:20240925T075423Z
UID:2298-1727337600-1729357200@comunitaitaliana.sg
SUMMARY:Accidental Death of an Activist
DESCRIPTION:Wild Rice presenta “Morte accidentale di un attivista”\, una rivisitazione dell’acclamata pièce di Dario Fo e Franca Rame. \nIn una movimentata città metropolitana\, un uomo sotto interrogatorio è caduto a morte dalla finestra del quarto piano della stazione di polizia. \nÈ saltato? O è stato spinto? \nMentre la polizia fa tutto il possibile per evitare uno scandalo\, un misterioso imbroglione si presenta e inizia a condurre una folle indagine\, che minaccia di svelare le cospirazioni e la corruzione che si celano nel cuore dei poteri forti. \nUn classico senza tempo che è tanto esilarantemente divertente quanto profondamente stimolante\, Accidental Death of an Activist di Dario Fo e Franca Rame irrompe sul palco del Wild Rice in questo adattamento tagliente scritto con arguzia irriverente dal pluripremiato regista teatrale Jo Kukathas\, che è anche co-regista con Glen Goei. \nCon un cast che include Ghafir Akbar\, Siti Khalijah Zainal\, Lim Kay Siu e Munah Bagharib\, Accidental Death of an Activist vi lascerà senza fiato dalle risate\, mentre offre un commento tagliente sull’abuso di potere e l’assurdità dell’autorità. \nDurata: circa 2 ore e 10 minuti (con 20 minuti di intervallo)\nIMDA Advisory 16 (contenuto per adulti e linguaggio volgare)\nConsigliato per utenti di età pari o superiore a 16 anni
URL:https://comunitaitaliana.sg/event/accidental-death-of-an-activist/
LOCATION:Wild Rice @ FUNAN\, 107 North Bridge Road #04-08\, Singapore\, 179105\, Singapore
CATEGORIES:Teatro
ATTACH;FMTTYPE=image/png:https://comunitaitaliana.sg/wp-content/uploads/2024/09/unnamed-1.png
ORGANIZER;CN="Ambasciata d'Italia":MAILTO:singapore.culturale@esteri.it
END:VEVENT
BEGIN:VEVENT
DTSTART;VALUE=DATE:20240413
DTEND;VALUE=DATE:20240422
DTSTAMP:20260422T034047
CREATED:20240417T084913Z
LAST-MODIFIED:20240417T084913Z
UID:2122-1712966400-1713743999@comunitaitaliana.sg
SUMMARY:Cooking with your feet
DESCRIPTION:Entra in un mondo in cui i piedi diventano narratori e ogni movimento è un magico viaggio culinario dell’immaginazione! \nUnisciti a noi per “Cucinare con i piedi” – un viaggio magico con Verónica González dall’Italia. ✨ \nIncontra lo chef visionario Pellegrino Artusi\, che ha trasformato la cucina in una forma d’arte. Nato nel 1820\, lui\, insieme alla sua fidata compagna Marietta\, percorre l’Italia\, catturando l’essenza dei suoi piatti deliziosi. Lo sfondo è dipinto con i capolavori dei grandi della musica italiana: Rossini\, Verdi e Puccini. \n“Cucinare con i piedi” non è solo uno spettacolo; è una festa sensoriale! Deliziati con l’armoniosa fusione di musica\, poesia\, ritmo e grazia\, abilmente presentata dalla talentuosa Verónica González.
URL:https://comunitaitaliana.sg/event/cooking-with-your-feet/
LOCATION:Drama Centre Black Box\, #05-01 National Library Building\, Singapore\, 188064\, Singapore
CATEGORIES:Teatro
ATTACH;FMTTYPE=image/jpeg:https://comunitaitaliana.sg/wp-content/uploads/2024/04/unnamed-1.jpg
ORGANIZER;CN="Act3 International":MAILTO:act3int@act3international.com.sg
END:VEVENT
BEGIN:VEVENT
DTSTART;VALUE=DATE:20231022
DTEND;VALUE=DATE:20231102
DTSTAMP:20260422T034047
CREATED:20231004T061312Z
LAST-MODIFIED:20231004T061312Z
UID:1669-1697932800-1698883199@comunitaitaliana.sg
SUMMARY:Asia-Europe Cultural Festival
DESCRIPTION:Celebrando dal 2018\, le collaborazioni culturali tra comunità artistiche in Asia ed Europa continuano a fiorire. Il Festival Culturale Asia-Europa è un festival pubblico dedicato alle arti che celebra la diversità artistica dell’Asia e dell’Europa e promuove il dialogo e lo scambio tra artisti provenienti da queste due regioni. Nel 2023\, il Festival si terrà per la prima volta a Singapore dal 22 ottobre al 1 novembre. L’edizione di quest’anno permetterà al pubblico di Singapore di vivere una varietà di eventi che spaziano dalla danza\, al cinema\, alla fotografia e alla musica\, con la partecipazione di artisti provenienti da Italia\, Malesia\, Cambogia\, Francia\, Estonia\, Giappone e Singapore\, tra gli altri. \nIl programma del Festival sarà presentato insieme al neo lanciato ASEF LinkUp | Asia-Europe Cultural Diplomacy Lab\, un evento della durata di 3 giorni che mette in connessione curatori\, gestori artistici e artisti con diplomatici e attaché culturali residenti a Singapore e nella regione ASEAN. Il Lab mira a creare nuovi spazi per incontri e sviluppo delle capacità\, dove i vari agenti coinvolti nella diplomazia culturale possono incontrarsi e condividere conoscenze. \nIl Festival avrà inizio il 22 ottobre con la première a Singapore del documentario “The Perfect Motion”\, diretto dal cineasta francese Xavier de Lauzanne. Il film segue la creazione di una produzione da parte dei danzatori reali della Cambogia chiamata “Metamorphosis”\, sotto la direzione della Principessa Buppha Devi\, e la storia del Royal Ballet dal 1906. La proiezione sarà seguita da una performance dal vivo della Princess Buppha Devi Dance School e una sessione di Q&A con il suo Direttore\, HRH Prince Sisowath Tesso\, e il cineasta.
URL:https://comunitaitaliana.sg/event/asia-europe-cultural-festival/
CATEGORIES:Danza,Film,Teatro
ATTACH;FMTTYPE=image/png:https://comunitaitaliana.sg/wp-content/uploads/2023/10/Screenshot-2023-10-04-at-8.06.58 AM.png
END:VEVENT
END:VCALENDAR