BEGIN:VCALENDAR
VERSION:2.0
PRODID:-//Comunità Italiana Singapore - ECPv6.15.17//NONSGML v1.0//EN
CALSCALE:GREGORIAN
METHOD:PUBLISH
X-WR-CALNAME:Comunità Italiana Singapore
X-ORIGINAL-URL:https://comunitaitaliana.sg
X-WR-CALDESC:Eventi per Comunità Italiana Singapore
REFRESH-INTERVAL;VALUE=DURATION:PT1H
X-Robots-Tag:noindex
X-PUBLISHED-TTL:PT1H
BEGIN:VTIMEZONE
TZID:Asia/Singapore
BEGIN:STANDARD
TZOFFSETFROM:+0800
TZOFFSETTO:+0800
TZNAME:+08
DTSTART:20230101T000000
END:STANDARD
END:VTIMEZONE
BEGIN:VEVENT
DTSTART;VALUE=DATE:20250630
DTEND;VALUE=DATE:20250702
DTSTAMP:20260422T073429
CREATED:20250623T092140Z
LAST-MODIFIED:20250623T092140Z
UID:2651-1751241600-1751414399@comunitaitaliana.sg
SUMMARY:South East Asia Fashion Week - B2B Trade Show
DESCRIPTION:– Un accesso esclusivo riservato alla comunità italiana a Singapore – \nSEA Fashion Week va in scena con l’unico evento B2B internazionale dedicato alla moda in tutto il Sud-Est Asiatico.\nL’evento apre eccezionalmente le porte anche a un numero limitato di appassionati di moda e fashion lovers\, offrendo la possibilità di scoprire in anteprima mondiale le collezioni Spring/Summer 2026 per uomo\, donna e bambino in un’atmosfera tranquilla e professionale. \nQuesta è l’unica occasione a Singapore e in tutto il Sud-Est Asiatico per vedere dal vivo brand internazionali di altissimo livello – molti dei quali hanno esposto a Pitti Uomo\, Première Classe\, Coterie\, Micam e Mipel – e che normalmente non partecipano ad alcun altro evento nella regione. \nTra i brand presenti ci saranno anche diversi marchi italiani selezionati come il brand Italiano Iconico GRAZIELLA BRACCIALINI o le borse di lusso di PARISE.\nIn particolare ci sarà anche Philip Karto (anche se non Italiano)\, celebre per le sue borse Louis Vuitton customizzate a mano che presenterà la nuova collezione in esclusiva durante l’evento. \nSito Web Evento: https://seafashionweek.magaras.com/ \n🎟️ Biglietto Riservato alla Community Italiana a Singapore\nVisto che l’organizzazione è tutta Italiana\, abbiamo deciso di dedicare una promozione speciale alla comunità italiana residente a Singapore: \n•⁠  ⁠20 biglietti gratuiti con il codice promozionale dedicato: COMUNITAITALIANASG-FREE-2025\n•⁠  ⁠50 biglietti al 75% di sconto\, quindi a soli 50 SGD anziché 200 SGD con il codice: COMUNITAITALIANASG-75-2025	 \nPer registrarsi basta andare sul link: https://www.eventbrite.sg/e/south-east-asia-fashion-week-b2b-trade-show-registration-1231430023349?aff=oddtdtcreator \n📩 Se sei un influencer o content creator\nPotresti essere selezionato per ricevere gift direttamente dai brand presenti all’evento\, per attivare collaborazioni o creare contenuti.\nPer candidarti\, invia una mail con i tuoi dati e canali a: info@magaras.com \nPerché partecipare?\n✅ Scopri in anteprima i trend SS2026 e collezioni mai viste prima in Asia\n✅ Incontra i brand internazionali più interessanti\, tra cui eccellenze italiane\n✅ Vivi un’esperienza autentica da fashion insider\, tra buyer\, designer e professionisti del settore\n✅ Esplora collezioni uomo\, donna\, bambino\, beachwear\, accessori e moda sostenibile \nA chi è rivolto:\n🔹 Appassionati di moda che vogliono scoprire per primi cosa arriverà nei negozi\n🔹 Clienti privati con gusto per il design internazionale\n🔹 Fashion influencer\, content creator o stylist in cerca di ispirazione e partnership\n🔹 Membri della comunità italiana a Singapore che vogliono vivere un’esperienza esclusiva \n📍 SEA Fashion Week\n📅 30 giugno – 1 luglio 2025\n📌 Singapore Expo – Hall 6\n🕙 Dalle 10:00 alle 18:00 \nPosti limitati – la registrazione è obbligatoria.
URL:https://comunitaitaliana.sg/event/south-east-asia-fashion-week-b2b-trade-show/
LOCATION:Singapore Expo Hall 6\, 1 Expo Drive #02-01\,\, Singapore\, Singapore\, 460170\, Singapore
CATEGORIES:Mostre e Fiere
ATTACH;FMTTYPE=image/jpeg:https://comunitaitaliana.sg/wp-content/uploads/2025/06/WhatsApp-Image-2025-06-21-at-04.12.17.jpeg
ORGANIZER;CN="Magaras":MAILTO:info@magaras.com
END:VEVENT
BEGIN:VEVENT
DTSTART;VALUE=DATE:20250527
DTEND;VALUE=DATE:20250530
DTSTAMP:20260422T073429
CREATED:20250527T015954Z
LAST-MODIFIED:20250527T020056Z
UID:2627-1748304000-1748563199@comunitaitaliana.sg
SUMMARY:Vinexpo Asia
DESCRIPTION:Torna a Singapore Vinexpo Asia\, uno degli appuntamenti di riferimento per il settore del vino e degli alcolici nel continente. Con oltre 11.000 visitatori attesi e 950 espositori provenienti da 40 Paesi\, l’edizione 2025 conferma il ruolo strategico della città come snodo commerciale per i mercati asiatici emergenti. \nL’Italia partecipa in forze\, con una presenza articolata che include produttori\, distributori\, cooperative\, oltre a consorzi di tutela come Valpolicella e Chianti\, e realtà regionali come la Regione Siciliana. Tra gli attori istituzionali spicca la presenza dell’Italian Trade Agency (ITA)\, a sostegno della promozione delle eccellenze italiane. \nSingapore si conferma piattaforma ideale per intercettare una domanda in rapida crescita\, non solo in Cina\, ma anche in mercati come Corea del Sud\, Indonesia e Vietnam. Vinexpo è oggi molto più di una fiera: rappresenta uno spazio di confronto su trend di consumo\, strategie distributive e innovazione nel settore. \nPer l’Italia\, l’appuntamento è un’occasione concreta per consolidare relazioni commerciali\, valorizzare l’identità territoriale delle denominazioni e promuovere modelli produttivi sostenibili. La varietà dell’offerta vinicola italiana si traduce in un interesse sempre maggiore da parte di importatori e buyer asiatici. \nVinexpo Asia 2025 si presenta così come un banco di prova e\, al tempo stesso\, una porta d’accesso privilegiata a un mercato in forte espansione. L’Italia\, con la forza delle sue filiere e dei suoi territori\, conferma la volontà di giocare un ruolo da protagonista.
URL:https://comunitaitaliana.sg/event/vinexpo-asia/
LOCATION:LEVEL 1\, MARINA BAY SANDS\, LEVEL 1\, MARINA BAY SANDS\, Singapore\, Singapore\, 018956\, Singapore
CATEGORIES:Mostre e Fiere
ATTACH;FMTTYPE=image/png:https://comunitaitaliana.sg/wp-content/uploads/2025/05/Screenshot-2025-05-27-at-9.59.15 AM.png
END:VEVENT
BEGIN:VEVENT
DTSTART;VALUE=DATE:20250522
DTEND;VALUE=DATE:20250616
DTSTAMP:20260422T073429
CREATED:20250516T100216Z
LAST-MODIFIED:20250516T100216Z
UID:2614-1747872000-1750031999@comunitaitaliana.sg
SUMMARY:Lilytopia
DESCRIPTION:Visita Venezia senza lasciare Singapore 🌸✨ \nPer celebrare i 60 anni di relazioni tra Italia e Singapore\, Gardens by the Bay presenta Lilytopia\, un’incantevole esposizione floreale in cui i gigli sono i protagonisti di un paesaggio da sogno veneziano. Entra nella Serenissima mentre il Flower Dome si trasforma in una romantica fuga all’italiana. Passeggia lungo i sentieri acciottolati fiancheggiati da gigli in piena fioritura estiva e lasciati trasportare dal loro profumo inebriante nel cuore di Venezia 🇮🇹💐 \n🗓️ 22 maggio – 15 giugno 2025\n🕘 9:00 – 21:00\n📍 Flower Dome\, Gardens by the Bay\n🎟️ L’ingresso al Flower Dome è a pagamento
URL:https://comunitaitaliana.sg/event/lilytopia/
LOCATION:Flower Dome\, Gardens vy the Bay\, 18 Marina Gardens Dr\, Singapore\, Singapore\, 018953\, Singapore
CATEGORIES:Mostre e Fiere
ATTACH;FMTTYPE=image/jpeg:https://comunitaitaliana.sg/wp-content/uploads/2025/05/493072221_1113607434128599_8404513213126310365_n.jpg
ORGANIZER;CN="Ambasciata d'Italia":MAILTO:singapore.culturale@esteri.it
END:VEVENT
BEGIN:VEVENT
DTSTART;VALUE=DATE:20250111
DTEND;VALUE=DATE:20250309
DTSTAMP:20260422T073429
CREATED:20241216T021825Z
LAST-MODIFIED:20241216T021837Z
UID:2448-1736553600-1741478399@comunitaitaliana.sg
SUMMARY:Disobedient Bodies: Reclaiming Her
DESCRIPTION:In concomitanza con Art SG 2025\, la Sundaram Tagore Gallery è orgogliosa di presentare una straordinaria mostra con opere di rinomate artiste provenienti da sette paesi asiatici. L’esposizione include nuove e recenti creazioni di Nadiah Bamadhaj (Malesia)\, Peihang Benoît (Taiwan)\, Lê Hiền Minh (Vietnam)\, Maria Madeira (Timor-Leste)\, Charmaine Poh (Singapore)\, Araya Rasdjarmrearnsook (Thailandia)\, Soe Yu Nwe (Myanmar) e Pannaphan Yodmanee (Thailandia). \nCon il supporto dell’Ambasciata d’Italia a Singapore\, la mostra è curata dalla studiosa e curatrice indipendente italiana \, una delle principali sostenitrici di prospettive contro-egemoniche e non centrate sull’Occidente nell’arte contemporanea del sud-est asiatico. \nLa mostra\, Disobedient Bodies: Reclaiming Her\, offre un dialogo stimolante sulle tensioni tra le aspettative sociali patriarcali e l’autonomia femminile. Attraverso diversi media\, le otto artiste esplorano temi come il genere\, l’identità e l’autonomia. Smontando le narrative di genere radicate e promuovendo il dibattito sull’emancipazione e sulla diversità\, Pazzini-Paracciani offre una piattaforma per riflessione e coinvolgimento. \nUna pubblicazione digitale\, che include un saggio curatoriale approfondito di Pazzini-Paracciani\, accompagna la mostra\, offrendo ulteriori spunti sulle opere delle artiste e sulla loro rilevanza globale.
URL:https://comunitaitaliana.sg/event/disobedient-bodies-reclaiming-her/
LOCATION:Sundaram Tagore Gallery\, 5 Lock Road 01–05\, Gillman Barracks\, Singapore\, Singapore\, 108933\, Singapore
CATEGORIES:arte,Mostre e Fiere
END:VEVENT
BEGIN:VEVENT
DTSTART;VALUE=DATE:20250111
DTEND;VALUE=DATE:20250115
DTSTAMP:20260422T073429
CREATED:20241210T094842Z
LAST-MODIFIED:20241210T094842Z
UID:2444-1736553600-1736899199@comunitaitaliana.sg
SUMMARY:MEDITERRANEAN FOOD & WINE WEEK
DESCRIPTION:Scopri le vivaci culture del Mediterraneo come mai prima\, proprio qui a Singapore. La nostra settimana del cibo e del vino del Mediterraneo promette un viaggio accattivante attraverso le migliori offerte della regione. Dalle gustose tapas spagnole agli squisiti vini francesi e alla famosa cucina italiana\, goditi degustazioni\, un evento di shopping e incontri B2B di impatto in questa vetrina mediterranea del sud-est asiatico.
URL:https://comunitaitaliana.sg/event/mediterranean-food-wine-week/
LOCATION:Suntec Convention & Exhibition Centre\, 1 Raffles Boulevard\, Singapore\, 039593\, Singapore
CATEGORIES:Mostre e Fiere
ATTACH;FMTTYPE=image/png:https://comunitaitaliana.sg/wp-content/uploads/2024/12/Screenshot-2024-12-10-at-5.45.47 PM.png
ORGANIZER;CN="Magaras":MAILTO:info@magaras.com
END:VEVENT
BEGIN:VEVENT
DTSTART;VALUE=DATE:20241004
DTEND;VALUE=DATE:20250106
DTSTAMP:20260422T073429
CREATED:20240930T121208Z
LAST-MODIFIED:20240930T121208Z
UID:2338-1728000000-1736121599@comunitaitaliana.sg
SUMMARY:Mostra Personale "Happy Valley" di Pierfrancesco Caleda
DESCRIPTION:Siamo lieti di annunciare la prima mostra personale “Happy Valley” di Pierfrancesco Caleda nel Sud-est asiatico\, presentata al Singapore International Photography Festival (SIPF)\, con il supporto dell’Ambasciata italiana a Singapore. \nTra il 2014 e il 2022\, gli incontri di Pierfrancesco a Hong Kong si sono evoluti in immagini toccanti che catturano momenti di moderazione\, contemplazione e mormorii inespressi\, in attesa che gli spettatori ne scoprano i significati più profondi. “Happy Valley” è assemblata come un’allegoria che si snoda nel tempo e narra lo stato d’animo nella ricerca di una vita ordinaria a Hong Kong. Nelle parole dell’artista\, “Attraverso metafore visive\, ho esplorato il mio rapporto con la città\, con l’obiettivo di creare un ritratto contemporaneo di Hong Kong\, che rifletta le sue realtà complesse e multistrato”. \nInformazioni sull’artista \nDopo aver completato un dottorato di ricerca in biomeccanica\, Pierfrancesco sta ora concentrando la sua attenzione su una serie di progetti fotografici personali a lungo termine che documentano la vita nelle città moderne. Ha vinto il Photo Folio Review\, Les Rencontres d’Arles (2021)\, il Guernsey Photography Festival International Competition (2020)\, il PHmuseum Photography Grant (secondo classificato\, 2020)\, l’Happiness Onthemove Award (2017)\, l’EPEA’03 (2015)\, il Photolux Leica Award (2014) e l’Ideastap and Magnum Photos Photographic Award (2010). Il suo lavoro è stato pubblicato ed esposto a livello internazionale\, tra cui Les Rencontres d’Arles\, Fotografia Europea\, Cortona ONTHEMOVE\, Nobel Peace Center\, Gulbenkian Foundation\, Wyng Foundation e Deichtorhallen. Attualmente ha sede a Venezia\, Italia. \nInformazioni su SIPF \nIl Singapore International Photography Festival (SIPF) è un incontro biennale di menti provenienti da tutto il mondo con il comune ricerca di promozione dell’arte e dell’apprezzamento della fotografia. Uno dei festival fotografici più longevi del Sud-est asiatico\, fondato nel 2008\, mira a essere un’arena chiave per il pensiero critico e il discorso contemporaneo sulla fotografia. Il SIPF è organizzato da DECK Photography Arts Centre Ltd\, un’organizzazione artistica senza scopo di lucro che promuove le arti della fotografia.
URL:https://comunitaitaliana.sg/event/mostra-personale-happy-valley-di-pierfrancesco-caleda/
LOCATION:Esplanade Tunnel (Basement 1)
CATEGORIES:Fotografia,Mostre e Fiere
ATTACH;FMTTYPE=image/jpeg:https://comunitaitaliana.sg/wp-content/uploads/2024/09/PB250330-1.jpg
ORGANIZER;CN="Ambasciata d'Italia":MAILTO:singapore.culturale@esteri.it
END:VEVENT
BEGIN:VEVENT
DTSTART;VALUE=DATE:20240413
DTEND;VALUE=DATE:20240501
DTSTAMP:20260422T073429
CREATED:20240412T113645Z
LAST-MODIFIED:20240412T113645Z
UID:2112-1712966400-1714521599@comunitaitaliana.sg
SUMMARY:Fabrica: Salone dello Stile e dell'Innovazione Tessile Italiana
DESCRIPTION:Singapore sarà la prima tappa della Fiera Fabrica: Italian Textile Style and Innovation\, un’iniziativa del Ministero degli Affari Esteri e della Cooperazione Internazionale in collaborazione con Sistema Moda Italia\, Acimit (Associazione dei Costruttori Italiani di Macchine per l’Industria Tessile)\, Confartigianato e il Consiglio della moda di Singapore. \nLa mostra\, articolata in un percorso di 6 installazioni tattili e interattive\, racconta attraverso 30 aziende selezionate\, la tecnologia e la ricerca della filiera tessile italiana\, leader mondiale per qualità e innovazione.\nSei sezioni presentano la ricchezza e la varietà della produzione italiana\, dai tessuti moda a quelli per l’arredamento\, dalle fibre tecniche sportive ai filati più sostenibili. \nInoltre\, il 22 aprile\, presso The Cocoon Space\, si terrà un workshop sulla sostenibilità nella moda\, a cura della ricercatrice dell’Università di Firenze Claudia Morea e sostenuto dal Fashion Council di Singapore\, rivolto a giovani stilisti\, aziende di moda\, studenti e professionisti legati al settore (per partecipazione e informazioni scrivere a: singapore.culturale@esteri.it)
URL:https://comunitaitaliana.sg/event/fabrica-salone-dello-stile-e-dellinnovazione-tessile-italiana/
LOCATION:The Cocoon Space\, 250 Orchard Road\, Singapore\, 238905\, Singapore
CATEGORIES:Mostre e Fiere
ATTACH;FMTTYPE=image/jpeg:https://comunitaitaliana.sg/wp-content/uploads/2024/04/fabbrica.jpeg
ORGANIZER;CN="Ambasciata d'Italia":MAILTO:singapore.culturale@esteri.it
END:VEVENT
BEGIN:VEVENT
DTSTART;VALUE=DATE:20240120
DTEND;VALUE=DATE:20240127
DTSTAMP:20260422T073429
CREATED:20240108T024429Z
LAST-MODIFIED:20240108T072601Z
UID:1876-1705708800-1706313599@comunitaitaliana.sg
SUMMARY:ITALIAN FOOD & WINE WEEK
DESCRIPTION:Settimana Italiana del Cibo e del Vino a Singapore 2024: Un Viaggio nel Gusto \nLa Settimana Italiana del Cibo e del Vino di Singapore è un evento che celebra l’heritage culinario italiano. In programma dal 20 al 26 gennaio 2024 al Suntec Convention & Exhibition Center\, promette un viaggio indimenticabile attraverso i sapori e gli aromi d’Italia. \nL’Evento\nQuesta settimana non è solo un evento\, ma un’esperienza che unisce il meglio della cucina e del vino italiani. È un’occasione unica per appassionati\, professionisti e amanti della cultura italiana di partecipare a diverse attività. \nPunti Salienti\nFiera B2B: Una piattaforma per networking e presentazione di prodotti.\nMasterclass: Imparare i segreti della cucina italiana da chef rinomati.\nDiscussioni: Esperti che discutono le ultime tendenze nel settore enogastronomico.\nShopping: Acquistare prodotti autentici italiani.\nFeste e Cene: Vivere la vera cultura del dining italiano. \nPerché Partecipare?\nScoprire Nuovi Sapori: Ampia gamma di vini e piatti italiani.\nApprendere dai Migliori: Intuizioni da leader del settore e chef esperti.\nOpportunità di Networking: Connessioni con importanti figure del mondo culinario.\nImmersione Culturale: Abbracciare lo stile di vita italiano attraverso cibo e vino. \nA Chi Si Rivolge?\nIdeale per: \nAppassionati di cibo e vino che desiderano approfondire la loro conoscenza.\nProfessionisti alla ricerca di nuovi contatti e prodotti.\nChiunque sia interessato a sperimentare la ricchezza della cultura italiana. \nLa Settimana Italiana del Cibo e del Vino è più di un evento; è una celebrazione dell’eccellenza culinaria italiana. È un luogo dove gusto\, tradizione e innovazione si incontrano. Vi invitiamo a far parte di questo straordinario viaggio e immergervi nel mondo del cibo e del vino italiano.
URL:https://comunitaitaliana.sg/event/italian-food-wine-week/
LOCATION:Suntec Convention & Exhibition Centre\, 1 Raffles Boulevard\, Singapore\, 039593\, Singapore
CATEGORIES:Mostre e Fiere,Workshop
ATTACH;FMTTYPE=image/jpeg:https://comunitaitaliana.sg/wp-content/uploads/2024/01/7e6594a4-028d-4ddd-8c87-e23d12488876.jpeg
ORGANIZER;CN="Magaras":MAILTO:info@magaras.com
END:VEVENT
END:VCALENDAR