BEGIN:VCALENDAR
VERSION:2.0
PRODID:-//Comunità Italiana Singapore - ECPv6.15.17//NONSGML v1.0//EN
CALSCALE:GREGORIAN
METHOD:PUBLISH
X-ORIGINAL-URL:https://comunitaitaliana.sg
X-WR-CALDESC:Eventi per Comunità Italiana Singapore
REFRESH-INTERVAL;VALUE=DURATION:PT1H
X-Robots-Tag:noindex
X-PUBLISHED-TTL:PT1H
BEGIN:VTIMEZONE
TZID:Asia/Singapore
BEGIN:STANDARD
TZOFFSETFROM:+0800
TZOFFSETTO:+0800
TZNAME:+08
DTSTART:20230101T000000
END:STANDARD
END:VTIMEZONE
BEGIN:VTIMEZONE
TZID:Asia/Shanghai
BEGIN:STANDARD
TZOFFSETFROM:+0800
TZOFFSETTO:+0800
TZNAME:CST
DTSTART:20220101T000000
END:STANDARD
END:VTIMEZONE
BEGIN:VEVENT
DTSTART;TZID=Asia/Singapore:20240607T200000
DTEND;TZID=Asia/Singapore:20240607T220000
DTSTAMP:20260422T054355
CREATED:20240605T140112Z
LAST-MODIFIED:20240607T021618Z
UID:2155-1717790400-1717797600@comunitaitaliana.sg
SUMMARY:C'è ancora domani (There's Still Tomorrow)
DESCRIPTION:Introduzione al film: “C’è ancora domani” (There’s Still Tomorrow)\n“C’è ancora domani” è un film drammatico diretto da Paola Cortellesi\, con Valerio Mastandrea e Paola Cortellesi come protagonisti. Ambientato nell’Italia del dopoguerra\, il film esplora i temi della rinascita\, del riscatto personale e delle dinamiche familiari in un periodo di grandi cambiamenti sociali ed economici. \nTrama\nNel cuore dell’Italia devastata dalla guerra\, Anna (Paola Cortellesi) è una giovane madre che lotta per mantenere unita la sua famiglia in un piccolo paese rurale. Suo marito Marco (Valerio Mastandrea) è un uomo segnato dal conflitto\, che fatica a trovare un senso nella vita quotidiana e nel nuovo mondo che si sta delineando. \nAnna\, determinata a garantire un futuro migliore per i suoi figli\, affronta le sfide quotidiane con coraggio e determinazione. La sua forza d’animo e la sua speranza incrollabile diventano un faro di speranza non solo per la sua famiglia\, ma anche per l’intera comunità. \nTematiche e Stile\n“C’è ancora domani” è un racconto di resilienza e speranza. Il film\, con una regia delicata e attenta ai dettagli\, cattura l’essenza delle difficoltà e delle speranze del periodo post-bellico. La performance di Paola Cortellesi è particolarmente commovente\, offrendo un ritratto autentico e toccante di una donna che non si arrende di fronte alle avversità.
URL:https://comunitaitaliana.sg/event/ce-ancora-domani-theres-still-tomorrow/
LOCATION:Golden Village x The Projector\, 8 Grange Road\, Singapore\, Singapore\, 239695\, Singapore
CATEGORIES:Film
ATTACH;FMTTYPE=image/jpeg:https://comunitaitaliana.sg/wp-content/uploads/2024/06/MV5BNDNlNmNiNjktODVhMi00Njk2LWIxYjktOTYyMzY3MTA4MTgzXkEyXkFqcGdeQXVyMTM1Njk1Mjc0._V1_FMjpg_UY457_.jpg
ORGANIZER;CN="Ambasciata d'Italia":MAILTO:singapore.culturale@esteri.it
END:VEVENT
BEGIN:VEVENT
DTSTART;VALUE=DATE:20240607
DTEND;VALUE=DATE:20240717
DTSTAMP:20260422T054355
CREATED:20240524T034330Z
LAST-MODIFIED:20240607T021626Z
UID:2145-1717718400-1721174399@comunitaitaliana.sg
SUMMARY:Italian Film Festival 2024
DESCRIPTION:🎬 Ritorna il Festival del Cinema Italiano a Singapore! 🇮🇹🇸🇬 \nLa 22ª edizione del Festival del Cinema Italiano sarà in programma dal 7 al 16 giugno 2024 e presenterà 8 film 🇮🇹 in collaborazione con @singaporefilmsociety e @theprojectorsg. 🍿 \n🎥 Il festival di quest’anno si aprirà con l’acclamato debutto alla regia di Paola Cortellesi\, “C’è ancora domani”\, e presenterà due classici intramontabili di Federico Fellini (“8 1/2” e “La Dolce Vita”). La rassegna include anche cinque uscite recenti\, culminando con il candidato all’Oscar 2024 di Matteo Garrone\, “Io Capitano”. \nOrganizzato dall’Ambasciata d’Italia e supportato da @triumphgroupint e @camparisg\, il festival si allinea con l’iniziativa globale “Fare Cinema” del Ministero degli Affari Esteri italiano\, con l’obiettivo di promuovere la produzione cinematografica e l’industria italiana. 🎥 \nAcquista i tuoi biglietti ora e goditi un viaggio cinematografico attraverso la cultura e la narrazione italiana.
URL:https://comunitaitaliana.sg/event/italian-film-festival-2024/
LOCATION:Golden Village x The Projector\, 8 Grange Road\, Singapore\, Singapore\, 239695\, Singapore
CATEGORIES:Film
ATTACH;FMTTYPE=image/jpeg:https://comunitaitaliana.sg/wp-content/uploads/2024/05/445701393_850342337121778_4683438435064837731_n.jpg
ORGANIZER;CN="Ambasciata d'Italia":MAILTO:singapore.culturale@esteri.it
END:VEVENT
BEGIN:VEVENT
DTSTART;TZID=Asia/Singapore:20240504T200000
DTEND;TZID=Asia/Singapore:20240504T220000
DTSTAMP:20260422T054355
CREATED:20240417T083455Z
LAST-MODIFIED:20240417T083455Z
UID:2119-1714852800-1714860000@comunitaitaliana.sg
SUMMARY:Comandante
DESCRIPTION:Ambientato nel 1940\, sullo sfondo della Seconda Guerra Mondiale\, Il Comandante è una storia di coraggio\, valore e scelte difficili.  \nSalvatore Todaro è un comandante della Marina con il destino scritto nel suo nome\, alla guida del sommergibile Cappellini nonostante un incidente che gli darebbe diritto ad una pensione di invalidità (come vorrebbe la moglie Rina). Ma il comandante Todaro non sa stare lontano dalle acque agitate. Nell’ottobre del 1940\, mentre navigava nell’Atlantico\, nel buio della notte una nave mercantile che navigava a luci spente apre improvvisamente il fuoco sul Cappellini. Segue una breve ma violenta battaglia che vede Todaro affondare la nave nemica. Poi il comandante prende una decisione storica: salvare i ventisei naufraghi belgi\, come prevede la legge del mare. Per portarli a bordo è costretto a rendersi visibile alle forze nemiche e a rischiare la propria vita e quella dei suoi uomini. \nONORI \nIl film ha aperto l’80esima edizione della Mostra del Cinema di Venezia
URL:https://comunitaitaliana.sg/event/comandante/
LOCATION:The Projector\, 6001 Beach Road\, Golden Mile Tower\, #05-00\, Singapore\, 199589\, Singapore
CATEGORIES:Film
ATTACH;FMTTYPE=image/jpeg:https://comunitaitaliana.sg/wp-content/uploads/2024/04/unnamed.jpg
ORGANIZER;CN="Ambasciata d'Italia":MAILTO:singapore.culturale@esteri.it
END:VEVENT
BEGIN:VEVENT
DTSTART;TZID=Asia/Shanghai:20231201T190000
DTEND;TZID=Asia/Shanghai:20231201T210000
DTSTAMP:20260422T054355
CREATED:20231118T045349Z
LAST-MODIFIED:20231118T045349Z
UID:1772-1701457200-1701464400@comunitaitaliana.sg
SUMMARY:La Chimera di Alice ROHRWACHER
DESCRIPTION:In occasione del Singapore International Film Festival 2023\, l’Ambasciata d’Italia è lieta di presentare il film italiano La Chimera di Alice ROHRWACHER il 1 dicembre alle 19:00 (Italia\, Francia\, Svizzera 2023 133 min PG13 – Some Coarse Language)\nIn questa affascinante fantasia\, un architetto si allea con un gruppo di ladri di tombe mentre cerca la sua defunta amante. \nDopo qualche tempo in prigione\, il robusto architetto inglese Arthur torna in Italia alla ricerca di una porta per gli inferi nella speranza di ricongiungersi con la sua defunta amante. Arthur si ritrova invischiato con un gruppo disordinato di ladri di tombe\, che lo tengono vicino mentre esercita un’abilità segreta per localizzare tombe etrusche sepolte nelle profondità del sottosuolo. In un perpetuo stato di limbo\, Arthur è a cavallo tra la realtà e l’aldilà\, inseguendo una chimera per andare alla ricerca di qualcosa di più profondo nel qui e ora. \nRohrwacher fonde il magico in una tragedia greca che si svolge lentamente nell’Italia trascendentale degli anni ’80. La Chimera è una sinfonia di mitologia e creazione di significato\, che non ha paura di mettere in discussione l’illusione di tutte le cose grandiose e preziose \nAlice ROHRWACHER è una regista\, montatrice e sceneggiatrice italiana. Il suo lungometraggio d’esordio Heavenly Body (2011) è stato presentato in anteprima alla Quinzaine des Réalisateurs di Cannes. Sono seguiti The Wonders (2014) e Happy as Lazzaro (2018)\, entrambi presentati in concorso allo stesso festival\, vincendo rispettivamente il Grand Prix e la migliore sceneggiatura.
URL:https://comunitaitaliana.sg/event/la-chimera-di-alice-rohrwacher/
LOCATION:Golden Village x The Projector\, 8 Grange Road\, Singapore\, Singapore\, 239695\, Singapore
CATEGORIES:Film
ATTACH;FMTTYPE=image/jpeg:https://comunitaitaliana.sg/wp-content/uploads/2023/11/unnamed-1.jpg
END:VEVENT
BEGIN:VEVENT
DTSTART;VALUE=DATE:20231022
DTEND;VALUE=DATE:20231102
DTSTAMP:20260422T054355
CREATED:20231004T061312Z
LAST-MODIFIED:20231004T061312Z
UID:1669-1697932800-1698883199@comunitaitaliana.sg
SUMMARY:Asia-Europe Cultural Festival
DESCRIPTION:Celebrando dal 2018\, le collaborazioni culturali tra comunità artistiche in Asia ed Europa continuano a fiorire. Il Festival Culturale Asia-Europa è un festival pubblico dedicato alle arti che celebra la diversità artistica dell’Asia e dell’Europa e promuove il dialogo e lo scambio tra artisti provenienti da queste due regioni. Nel 2023\, il Festival si terrà per la prima volta a Singapore dal 22 ottobre al 1 novembre. L’edizione di quest’anno permetterà al pubblico di Singapore di vivere una varietà di eventi che spaziano dalla danza\, al cinema\, alla fotografia e alla musica\, con la partecipazione di artisti provenienti da Italia\, Malesia\, Cambogia\, Francia\, Estonia\, Giappone e Singapore\, tra gli altri. \nIl programma del Festival sarà presentato insieme al neo lanciato ASEF LinkUp | Asia-Europe Cultural Diplomacy Lab\, un evento della durata di 3 giorni che mette in connessione curatori\, gestori artistici e artisti con diplomatici e attaché culturali residenti a Singapore e nella regione ASEAN. Il Lab mira a creare nuovi spazi per incontri e sviluppo delle capacità\, dove i vari agenti coinvolti nella diplomazia culturale possono incontrarsi e condividere conoscenze. \nIl Festival avrà inizio il 22 ottobre con la première a Singapore del documentario “The Perfect Motion”\, diretto dal cineasta francese Xavier de Lauzanne. Il film segue la creazione di una produzione da parte dei danzatori reali della Cambogia chiamata “Metamorphosis”\, sotto la direzione della Principessa Buppha Devi\, e la storia del Royal Ballet dal 1906. La proiezione sarà seguita da una performance dal vivo della Princess Buppha Devi Dance School e una sessione di Q&A con il suo Direttore\, HRH Prince Sisowath Tesso\, e il cineasta.
URL:https://comunitaitaliana.sg/event/asia-europe-cultural-festival/
LOCATION:Singapore
CATEGORIES:Danza,Film,Teatro
ATTACH;FMTTYPE=image/png:https://comunitaitaliana.sg/wp-content/uploads/2023/10/Screenshot-2023-10-04-at-8.06.58 AM.png
END:VEVENT
BEGIN:VEVENT
DTSTART;TZID=Asia/Shanghai:20230811T163000
DTEND;TZID=Asia/Shanghai:20230811T183000
DTSTAMP:20260422T054355
CREATED:20230808T111610Z
LAST-MODIFIED:20230808T111610Z
UID:980-1691771400-1691778600@comunitaitaliana.sg
SUMMARY:Il Buco
DESCRIPTION:Dal 9 al 16 agosto sarà proiettato al The Projector (GMT) il pluripremiato film di Michelangelo Frammartino\, “Il Buco”.  \nPresentato in concorso a Venezia 78\, Il buco segna il ritorno del cinema contemplativo di Michelangelo Frammartino che torna alla Calabria ancestrale e metafisica dei suoi primi due film. Una terra dimenticata dal tempo\, un continente perduto\, un Sud che rimaneva rurale mentre l’Italia entrava nel fermento del boom economico. In questo contesto il filmmaker ripercorre una celebre impresa speleologica nel parco del Pollino nel 1961. \nQuesto film ha ricevuto il Premio Speciale della Giuria alla Mostra del Cinema di Venezia 2021\, oltre ad altri 10 premi internazionali e 9 nomination\, il dramma italiano racconta una visita attraverso profondità sconosciute della vita e della natura e mette in parallelo due grandi viaggi verso l’interno.
URL:https://comunitaitaliana.sg/event/il-buco-4/
LOCATION:The Projector\, 6001 Beach Road\, Golden Mile Tower\, #05-00\, Singapore\, 199589\, Singapore
CATEGORIES:Film
ATTACH;FMTTYPE=image/png:https://comunitaitaliana.sg/wp-content/uploads/2023/08/unnamed.png
ORGANIZER;CN="Ambasciata d'Italia":MAILTO:singapore.culturale@esteri.it
END:VEVENT
END:VCALENDAR